BEGIN:VCALENDAR
VERSION:2.0
PRODID:-//Fort Worth Renaissance Heights - ECPv6.10.0//NONSGML v1.0//EN
CALSCALE:GREGORIAN
METHOD:PUBLISH
X-ORIGINAL-URL:https://renaissanceheights.org
X-WR-CALDESC:Events for Fort Worth Renaissance Heights
REFRESH-INTERVAL;VALUE=DURATION:PT1H
X-Robots-Tag:noindex
X-PUBLISHED-TTL:PT1H
BEGIN:VTIMEZONE
TZID:America/New_York
BEGIN:DAYLIGHT
TZOFFSETFROM:-0500
TZOFFSETTO:-0400
TZNAME:EDT
DTSTART:20240310T070000
END:DAYLIGHT
BEGIN:STANDARD
TZOFFSETFROM:-0400
TZOFFSETTO:-0500
TZNAME:EST
DTSTART:20241103T060000
END:STANDARD
END:VTIMEZONE
BEGIN:VEVENT
DTSTART;TZID=America/New_York:20241019T110000
DTEND;TZID=America/New_York:20241019T150000
DTSTAMP:20260424T115800
CREATED:20241007T150023Z
LAST-MODIFIED:20241007T150023Z
UID:1777-1729335600-1729350000@renaissanceheights.org
SUMMARY:Tarrant County Sheriff's Office Job Fair
DESCRIPTION:2024 JOB FAIR FLYER Tarrant County Sheriff \nJoin the Tarrant County Sheriff’s Office for a unique job fair experience! \nThis family-friendly\, free event is open to the public and features a range of activities and demonstrations: \n– SWAT & Detention Officer Demos \n– Crime Scene Fingerprint Cards \n– A Mock Crime Scene \n– Courtesy Patrol Tire Changing Competition \n– Food Trucks – Drone Display \n– Hostage Negotiators \n– Row Testing \n– Internship Information Recruiters will be on site to expedite the hiring process. \nDon’t miss out on this opportunity to learn more about careers with TCSO and explore exciting demonstrations.
URL:https://renaissanceheights.org/event/tarrant-county-sheriffs-office-job-fair/
CATEGORIES:Community Event,Jobs
ATTACH;FMTTYPE=application/pdf:https://renaissanceheights.org/wp-content/uploads/2024/10/2024-JOB-FAIR-FLYER-Tarrant-County-Sheriff-1.pdf
END:VEVENT
END:VCALENDAR